BEGIN:VCALENDAR
VERSION:2.0
PRODID:Imitheme.com 
BEGIN:VEVENT
UID:20260419T211431819126077
DTSTAMP;TZID=UTC:2026-04-19 21:14:31
DTSTART;TZID=America/Los_Angeles:20260419T211431
DTEND;TZID=America/Los_Angeles:20260419T211431
SUMMARY:VI Congresso Nazionale di Ecopatologia della Fauna
LOCATION:Caramanico Terme (Pescara)
DESCRIPTION:On line il programma definitivo del VI Congresso Nazionale di Ecopatologia della Fauna 13-16 Novembre 2024 Wildlife research center – sede scientifica del Parco Nazionale della Maiella, Caramanico Terme (Pescara) La sesta edizione del Congresso Nazionale di Ecopatologia della Fauna sarà organizzata da S.I.E.F in collaborazione con il Parco Nazionale della Maiella, il Wildlife Research Center ed il Dipartimento di Medicina veterinaria dell’Università di Teramo. L’evento è accreditato ECM: 15 crediti formativi Ci vediamo in Abruzzo ! Per maggiori informazioni su iscrizioni e pagamenti utilizzare il form https://eventiecongressi.it/sief/contatti/ Oppure consulta i documenti presenti qui sotto la pagina. Continuate a seguirci sulle nostre pagine Facebook e Instagram.   
URL:https://sief.it/eventer/vi-congresso-nazionale-di-ecopatologia-della-fauna/
END:VEVENT
END:VCALENDAR
