BEGIN:VCALENDAR
VERSION:2.0
PRODID:Imitheme.com 
BEGIN:VEVENT
UID:20260420T1249351210051382
DTSTAMP;TZID=UTC:2026-04-20 12:49:35
DTSTART;TZID=America/Los_Angeles:20260420T124935
DTEND;TZID=America/Los_Angeles:20260420T124935
SUMMARY:Gestione integrata del cinghiale in emergenza P.S.A
LOCATION:Reggio Calabria
DESCRIPTION:Venerdì 23 Febbraio 2024: Assemblea dei cacciatori e bioregolatori ATC RC 1 Sabato 24 Febbraio 2024: Mattina: Prova pratica di installazione di trappola PigBrig Pomeriggio: Convegno Nazionale “Gestione integrata del cinghiale in emergenza P.S.A” Per informazioni ed iscrizioni contattare il numero: 0965.814015 o via mail info@atcrc1.it  
URL:https://sief.it/eventer/%f0%9f%93%8cgestione-integrata-del-cinghiale-in-emergenza-p-s-a/
END:VEVENT
END:VCALENDAR
